BEGIN:VCALENDAR
VERSION:2.0
PRODID:-//Drivit Solution - ECPv6.15.17.1//NONSGML v1.0//EN
CALSCALE:GREGORIAN
METHOD:PUBLISH
X-ORIGINAL-URL:https://drivit-solutions.com
X-WR-CALDESC:Events for Drivit Solution
REFRESH-INTERVAL;VALUE=DURATION:PT1H
X-Robots-Tag:noindex
X-PUBLISHED-TTL:PT1H
BEGIN:VTIMEZONE
TZID:UTC
BEGIN:STANDARD
TZOFFSETFROM:+0000
TZOFFSETTO:+0000
TZNAME:UTC
DTSTART:20210101T000000
END:STANDARD
END:VTIMEZONE
BEGIN:VEVENT
DTSTART;TZID=UTC:20220621T080000
DTEND;TZID=UTC:20220623T170000
DTSTAMP:20260423T105337
CREATED:20211103T090243Z
LAST-MODIFIED:20220401T070336Z
UID:3074-1655798400-1656003600@drivit-solutions.com
SUMMARY:Drivit Conference
DESCRIPTION:Johannesburg – South Africa
URL:https://drivit-solutions.com/event/spring-drivit-conference/
ATTACH;FMTTYPE=image/jpeg:https://drivit-solutions.com/wp-content/uploads/2021/11/EVENT_BANNER3.jpg
END:VEVENT
END:VCALENDAR